BEGIN:VCALENDAR
VERSION:2.0
PRODID:-//ChamberMaster//Event Calendar 2.0//EN
METHOD:PUBLISH
X-PUBLISHED-TTL:P3D
REFRESH-INTERVAL:P3D
CALSCALE:GREGORIAN
BEGIN:VEVENT
DTSTART:20181006T180000Z
DTEND:20181006T220000Z
X-MICROSOFT-CDO-ALLDAYEVENT:FALSE
SUMMARY:Salmon Homecoming CELEBRATION !!
DESCRIPTION:The community is invited to celebrate the return of spawning salmon to the Puyallup watershed and Clarks Creek each fall. This event features nonprofit and agency partners sharing information about envronmental education\, stewardship\, volunteer opportunities\, games\, crafts\, storytelling and more!
X-ALT-DESC;FMTTYPE=text/html:<span style="color: rgb(111\, 114\, 135)\; font-family: &quot\;Neue Plak&quot\;\, -apple-system\, BlinkMacSystemFont\, Roboto\, &quot\;Helvetica Neue&quot\;\, Helvetica\, Tahoma\, Arial\, sans-serif\; font-size: 15px\; letter-spacing: 0.5px\;">The community is invited to celebrate the return of spawning salmon to the Puyallup watershed and Clarks Creek each fall. This event features nonprofit and agency partners sharing information about envronmental education\, stewardship\, volunteer opportunities\, games\, crafts\, storytelling and more!</span>
LOCATION:DeCoursey Park 2101 7th Ave SW Puyallup\, WA DeCoursey Pond is open only to juveniles (under 15 years old). DeCoursey Pond is open from the fourth Saturday in April through November 30. The pond offers good harvest opportunity for stocked rainbow trout.
UID:e.101.9088
SEQUENCE:3
DTSTAMP:20260421T101253Z
URL:https://visitor.puyallupsumnerchamber.com/events/details/salmon-homecoming-celebration-9088
END:VEVENT

END:VCALENDAR
