BEGIN:VCALENDAR
VERSION:2.0
PRODID:-//ChamberMaster//Event Calendar 2.0//EN
METHOD:PUBLISH
X-PUBLISHED-TTL:P3D
REFRESH-INTERVAL:P3D
CALSCALE:GREGORIAN
BEGIN:VEVENT
DTSTART:20181103T163000Z
DTEND:20181103T230000Z
X-MICROSOFT-CDO-ALLDAYEVENT:FALSE
SUMMARY:Safe Streets Community Conference 2018: Build Your Dream Pierce County
DESCRIPTION:Safe Streets Community Conference 2018 is the sixth annual gathering of volunteers and neighbors to build skills\, knowledge\, connections to improve our communities. Focuses this year will be on community engagement with opportunities to discuss and share ideas around issues like the opioid crisis and homelessness affecting Tacoma and Pierce County.
X-ALT-DESC;FMTTYPE=text/html:&nbsp\;Safe Streets Community Conference 2018 is the sixth annual gathering of volunteers and neighbors to build skills\, knowledge\, connections to improve our communities. Focuses this year will be on community engagement with opportunities to discuss and share ideas around issues like the opioid crisis and homelessness affecting Tacoma and Pierce County.&nbsp\;
LOCATION:Pierce County Skills Center 16117 Canyon Rd E\, Puyallup\, WA 98375
UID:e.101.9592
SEQUENCE:3
DTSTAMP:20260421T090805Z
URL:https://visitor.puyallupsumnerchamber.com/events/details/safe-streets-community-conference-2018-build-your-dream-pierce-county-9592
END:VEVENT

END:VCALENDAR
