BEGIN:VCALENDAR
VERSION:2.0
PRODID:-//ChamberMaster//Event Calendar 2.0//EN
METHOD:PUBLISH
X-PUBLISHED-TTL:P3D
REFRESH-INTERVAL:P3D
CALSCALE:GREGORIAN
BEGIN:VEVENT
DTSTART:20181007T210000Z
DTEND:20181007T230000Z
X-MICROSOFT-CDO-ALLDAYEVENT:FALSE
SUMMARY:Northwest Sinfonietta Presents - "French Connections"
DESCRIPTION:Our opening afternoon concert marks the introduction of Maestro David Lockington in his new role as Principal Artistic Partner. Join us in Puyallup at Pioneer Park Pavilion for this exciting program: W.A. Mozart ~Symphony No. 31 in D major\, 'Paris' (1778) M. Ravel ~ Le Tombeau du Couperin (1919) G. Faure ~ Requiem\, Op. 48 (1900) Seattle Choral Company   Freddie Coleman\, Artistic Director Jennifer Bromagen\, soprano\; Damien Geter\, Bass-baritone
X-ALT-DESC;FMTTYPE=text/html:Our opening afternoon concert marks the introduction of Maestro David Lockington in his new role as Principal Artistic Partner. Join us in Puyallup at Pioneer Park Pavilion for this exciting program: W.A. Mozart ~Symphony No. 31 in D major\, &lsquo\;Paris&rsquo\; (1778) M. Ravel ~ Le Tombeau du Couperin (1919) G. Faure ~ Requiem\, Op. 48 (1900) Seattle Choral Company &ndash\; Freddie Coleman\, Artistic Director Jennifer Bromagen\, soprano\; Damien Geter\, Bass-baritone
LOCATION:Pioneer Park Pavilion 330 S. Meridian Puyallup\, WA 98371
UID:e.101.9591
SEQUENCE:3
DTSTAMP:20260421T115725Z
URL:https://visitor.puyallupsumnerchamber.com/events/details/northwest-sinfonietta-presents-french-connections-9591
END:VEVENT

END:VCALENDAR
