BEGIN:VCALENDAR
VERSION:2.0
PRODID:-//ChamberMaster//Event Calendar 2.0//EN
METHOD:PUBLISH
X-PUBLISHED-TTL:P3D
REFRESH-INTERVAL:P3D
CALSCALE:GREGORIAN
BEGIN:VEVENT
DTSTART:20181125T020000Z
DTEND:20181125T040000Z
X-MICROSOFT-CDO-ALLDAYEVENT:FALSE
SUMMARY:Light Up Main
DESCRIPTION:
X-ALT-DESC;FMTTYPE=text/html:
LOCATION:
UID:e.101.9074
SEQUENCE:3
DTSTAMP:20260421T084150Z
URL:https://visitor.puyallupsumnerchamber.com/events/details/light-up-main-11-24-2018-9074
END:VEVENT

END:VCALENDAR
