BEGIN:VCALENDAR
VERSION:2.0
PRODID:-//ChamberMaster//Event Calendar 2.0//EN
METHOD:PUBLISH
X-PUBLISHED-TTL:P3D
REFRESH-INTERVAL:P3D
CALSCALE:GREGORIAN
BEGIN:VEVENT
DTSTART:20181017T160000Z
DTEND:20181018T000000Z
X-MICROSOFT-CDO-ALLDAYEVENT:FALSE
SUMMARY:International Print Day 2018
DESCRIPTION:Open House at Minuteman Press of Puyallup. Stop by to see how we can help you tell your story. Thanks to Print Media Center\, https://ipd.printmediacentr.com\, @InternationalPrintDay
X-ALT-DESC;FMTTYPE=text/html:Open House at Minuteman Press of Puyallup. Stop by to see how we can help you tell your story. Thanks to Print Media Center\, https://ipd.printmediacentr.com\, @InternationalPrintDay
LOCATION:Minuteman Press 2102 E Main St\, #111 Puyallup\, WA 98372
UID:e.101.9120
SEQUENCE:3
DTSTAMP:20260421T102355Z
URL:https://visitor.puyallupsumnerchamber.com/events/details/international-print-day-2018-9120
END:VEVENT

END:VCALENDAR
