BEGIN:VCALENDAR
VERSION:2.0
PRODID:-//ChamberMaster//Event Calendar 2.0//EN
METHOD:PUBLISH
X-PUBLISHED-TTL:P3D
REFRESH-INTERVAL:P3D
CALSCALE:GREGORIAN
BEGIN:VEVENT
DTSTART:20181019T150000Z
DTEND:20181021T000000Z
X-MICROSOFT-CDO-ALLDAYEVENT:FALSE
SUMMARY:Hoot & Howl
DESCRIPTION:
X-ALT-DESC;FMTTYPE=text/html:
LOCATION:
UID:e.101.9073
SEQUENCE:3
DTSTAMP:20260421T102507Z
URL:https://visitor.puyallupsumnerchamber.com/events/details/hoot-amp-howl-10-19-2018-9073
END:VEVENT

END:VCALENDAR
