BEGIN:VCALENDAR
VERSION:2.0
PRODID:-//ChamberMaster//Event Calendar 2.0//EN
METHOD:PUBLISH
X-PUBLISHED-TTL:P3D
REFRESH-INTERVAL:P3D
CALSCALE:GREGORIAN
BEGIN:VEVENT
DTSTART:20181023T140000Z
DTEND:20181023T160000Z
X-MICROSOFT-CDO-ALLDAYEVENT:FALSE
SUMMARY:Helping Hands Annual Development Breakfast
DESCRIPTION:Our annual breakfast is our largest development opportunity of the year and gives our community an opportunity to see how Helping Hand has served familiies of the past year and what we have planned for the future.
X-ALT-DESC;FMTTYPE=text/html:Our annual breakfast is our largest development opportunity of the year and gives our community an opportunity to see how Helping Hand has served familiies of the past year and what we have planned for the future.
LOCATION:Pioneer Park Pavillion
UID:e.101.9594
SEQUENCE:3
DTSTAMP:20260421T101039Z
URL:https://visitor.puyallupsumnerchamber.com/events/details/helping-hands-annual-development-breakfast-9594
END:VEVENT

END:VCALENDAR
