BEGIN:VCALENDAR
VERSION:2.0
PRODID:-//ChamberMaster//Event Calendar 2.0//EN
METHOD:PUBLISH
X-PUBLISHED-TTL:P3D
REFRESH-INTERVAL:P3D
CALSCALE:GREGORIAN
BEGIN:VEVENT
DTSTART;VALUE=DATE:20181018
DTEND;VALUE=DATE:20181019
TRANSP:TRANSPARENT
X-MICROSOFT-CDO-ALLDAYEVENT:TRUE
SUMMARY:Great Washington ShakeOut Earthquake Drill
DESCRIPTION:The Great Washington Shakeout is an annual earthquake drill the provides individuals\, families and businesses an opportunity to practice earthquake safety. Participation can vary from a simple "drop\, cover\, hold on" drill to a larger test of your preparedness and planning.
X-ALT-DESC;FMTTYPE=text/html:<span style="font-family:calibri\,sans-serif\;"><span style="font-size:11.0pt\;">The Great Washington Shakeout is an <strong>annual earthquake drill</strong> the provides individuals\, families and businesses an opportunity to<em><strong> practice earthquake safety</strong></em>. Participation can vary from a simple &ldquo\;drop\, cover\, hold on&rdquo\; drill to a larger test of your preparedness and planning.&nbsp\;</span></span>
LOCATION:Resources to help guide participating businesses can be found on the ShakeOut website including: Business Drill Manual :https://www.shakeout.org/downloads/ShakeOutDrillManualBusinesses_v2.pdf Drop Cover\, and Hold on!: https://www.shakeout.org/dropcoverholdon/ Audio and video drill broadcast recordings: https://www.shakeout.org/washington/drill/broadcast/
UID:e.101.9599
SEQUENCE:3
DTSTAMP:20260421T102346Z
URL:https://visitor.puyallupsumnerchamber.com/events/details/great-washington-shakeout-earthquake-drill-9599
END:VEVENT

END:VCALENDAR
