BEGIN:VCALENDAR
VERSION:2.0
PRODID:-//ChamberMaster//Event Calendar 2.0//EN
METHOD:PUBLISH
X-PUBLISHED-TTL:P3D
REFRESH-INTERVAL:P3D
CALSCALE:GREGORIAN
BEGIN:VEVENT
DTSTART:20191024T223000Z
DTEND:20191024T233000Z
X-MICROSOFT-CDO-ALLDAYEVENT:FALSE
SUMMARY:Elements Ribbon Cutting Celebration
DESCRIPTION:We are so excited to celebrate the Grand Re-Opening of Elements Coffee\, Juice\, and Frozen Yogurt. We are bringing out Chamber community out to reveal the incredible remodel that was just completed with this Ribbon Cutting celebration! Bring your family and friends for an after school treat at this gorgeous caf  where there is definitely something for everyone. \n\n\n\nElements is family-owned and operated since April of 2019. They believe in treating customers like family\, while providing fresh and delicious food and beverages for everyone who walks through the door. \n\n\n\nElements has been a great supporter of our Chamber with a booth presence at our 4th of July\, hosting Wake Ups during the month of September\, and sponsoring our upcoming Leadership Lunch and Learn. We are excited to support them in their latest endeavor with a strong showing of our Chamber community!
X-ALT-DESC;FMTTYPE=text/html:<span style="color: rgb(29\, 33\, 41)\; font-family: system-ui\, -apple-system\, BlinkMacSystemFont\, &quot\;.SFNSText-Regular&quot\;\, sans-serif\; font-size: 14px\; white-space: pre-wrap\; caret-color: rgb(29\, 33\, 41)\; text-size-adjust: auto\;">We are so excited to celebrate the Grand Re-Opening of Elements Coffee\, Juice\, and Frozen Yogurt. We are bringing out Chamber community out to reveal the incredible remodel that was just completed with this Ribbon Cutting celebration! Bring your family and friends for an after school treat at this gorgeous caf&eacute\; where there is definitely something for everyone. </span><br style="color: rgb(29\, 33\, 41)\; font-family: system-ui\, -apple-system\, BlinkMacSystemFont\, &quot\;.SFNSText-Regular&quot\;\, sans-serif\; font-size: 14px\; white-space: pre-wrap\; caret-color: rgb(29\, 33\, 41)\; text-size-adjust: auto\;" />\n<br style="color: rgb(29\, 33\, 41)\; font-family: system-ui\, -apple-system\, BlinkMacSystemFont\, &quot\;.SFNSText-Regular&quot\;\, sans-serif\; font-size: 14px\; white-space: pre-wrap\; caret-color: rgb(29\, 33\, 41)\; text-size-adjust: auto\;" />\n<span style="color: rgb(29\, 33\, 41)\; font-family: system-ui\, -apple-system\, BlinkMacSystemFont\, &quot\;.SFNSText-Regular&quot\;\, sans-serif\; font-size: 14px\; white-space: pre-wrap\; caret-color: rgb(29\, 33\, 41)\; text-size-adjust: auto\;">Elements is family-owned and operated since April of 2019. They believe in treating customers like family\, while providing fresh and delicious food and beverages for everyone who walks through the door. </span><br style="color: rgb(29\, 33\, 41)\; font-family: system-ui\, -apple-system\, BlinkMacSystemFont\, &quot\;.SFNSText-Regular&quot\;\, sans-serif\; font-size: 14px\; white-space: pre-wrap\; caret-color: rgb(29\, 33\, 41)\; text-size-adjust: auto\;" />\n<br style="color: rgb(29\, 33\, 41)\; font-family: system-ui\, -apple-system\, BlinkMacSystemFont\, &quot\;.SFNSText-Regular&quot\;\, sans-serif\; font-size: 14px\; white-space: pre-wrap\; caret-color: rgb(29\, 33\, 41)\; text-size-adjust: auto\;" />\n<span style="color: rgb(29\, 33\, 41)\; font-family: system-ui\, -apple-system\, BlinkMacSystemFont\, &quot\;.SFNSText-Regular&quot\;\, sans-serif\; font-size: 14px\; white-space: pre-wrap\; caret-color: rgb(29\, 33\, 41)\; text-size-adjust: auto\;">Elements has been a great supporter of our Chamber with a booth presence at our 4th of July\, hosting Wake Ups during the month of September\, and sponsoring our upcoming Leadership Lunch and Learn. We are excited to support them in their latest endeavor with a strong showing of our Chamber community!</span>
LOCATION:333 South Meridian\, Suite 111 Puyallup\, WA 98371
UID:e.101.10543
SEQUENCE:3
DTSTAMP:20260420T151707Z
URL:https://visitor.puyallupsumnerchamber.com/events/details/elements-ribbon-cutting-celebration-10543
END:VEVENT

END:VCALENDAR
