BEGIN:VCALENDAR
VERSION:2.0
PRODID:-//ChamberMaster//Event Calendar 2.0//EN
METHOD:PUBLISH
X-PUBLISHED-TTL:P3D
REFRESH-INTERVAL:P3D
CALSCALE:GREGORIAN
BEGIN:VEVENT
DTSTART:20181013T170000Z
DTEND:20181013T210000Z
X-MICROSOFT-CDO-ALLDAYEVENT:FALSE
SUMMARY:Dare 2BEExceptional Walk
DESCRIPTION:Come in under our umbrella! Join us as we share our stand against bullying. See you in Center Court! \n\n#BeAFriendNotABully #IAMexceptional #BetterTogether#WeAreExceptionalTogether #BeKind #antibullying #bullying #justdontdoit#antibullyingawareness #becool #stopbullying\n\n\n\n	Causes\n	Kid Friendly
X-ALT-DESC;FMTTYPE=text/html:<div>\n<div><span style="font-family:inherit">Come in under our umbrella! Join us as we share our stand against bullying. See you in Center Court!&nbsp\;<br />\n<a href="https://www.facebook.com/hashtag/beafriendnotabully" style="color: rgb(54\, 88\, 153)\; cursor: pointer\; text-decoration-line: none\; font-family: inherit\;" target="_blank">#BeAFriendNotABully</a>&nbsp\;<a href="https://www.facebook.com/hashtag/iamexceptional" style="color: rgb(54\, 88\, 153)\; cursor: pointer\; text-decoration-line: none\; font-family: inherit\;" target="_blank">#IAMexceptional</a>&nbsp\;<a href="https://www.facebook.com/hashtag/bettertogether" style="color: rgb(54\, 88\, 153)\; cursor: pointer\; text-decoration-line: none\; font-family: inherit\;" target="_blank">#BetterTogether</a><a href="https://www.facebook.com/hashtag/weareexceptionaltogether" style="color: rgb(54\, 88\, 153)\; cursor: pointer\; text-decoration-line: none\; font-family: inherit\;" target="_blank">#WeAreExceptionalTogether</a>&nbsp\;<a href="https://www.facebook.com/hashtag/bekind" style="color: rgb(54\, 88\, 153)\; cursor: pointer\; text-decoration-line: none\; font-family: inherit\;" target="_blank">#BeKind</a>&nbsp\;<a href="https://www.facebook.com/hashtag/antibullying" style="color: rgb(54\, 88\, 153)\; cursor: pointer\; text-decoration-line: none\; font-family: inherit\;" target="_blank">#antibullying</a>&nbsp\;<a href="https://www.facebook.com/hashtag/bullying" style="color: rgb(54\, 88\, 153)\; cursor: pointer\; text-decoration-line: none\; font-family: inherit\;" target="_blank">#bullying</a>&nbsp\;<a href="https://www.facebook.com/hashtag/justdontdoit" style="color: rgb(54\, 88\, 153)\; cursor: pointer\; text-decoration-line: none\; font-family: inherit\;" target="_blank">#justdontdoit</a><a href="https://www.facebook.com/hashtag/antibullyingawareness" style="color: rgb(54\, 88\, 153)\; cursor: pointer\; text-decoration-line: none\; font-family: inherit\;" target="_blank">#antibullyingawareness</a>&nbsp\;<a href="https://www.facebook.com/hashtag/becool" style="color: rgb(54\, 88\, 153)\; cursor: pointer\; text-decoration-line: none\; font-family: inherit\;" target="_blank">#becool</a>&nbsp\;<a href="https://www.facebook.com/hashtag/stopbullying" style="color: rgb(54\, 88\, 153)\; cursor: pointer\; text-decoration-line: none\; font-family: inherit\;" target="_blank">#stopbullying</a></span></div>\n</div>\n\n<ul style="list-style-type:none">\n	<li><a href="https://www.facebook.com/events/discovery/?acontext=%7B%22source%22%3A1%2C%22action_history%22%3A%22[%7B%5C%22surface%5C%22%3A%5C%22page%5C%22%2C%5C%22mechanism%5C%22%3A%5C%22main_list%5C%22%2C%5C%22extra_data%5C%22%3A%5C%22%5C%5C%5C%22[]%5C%5C%5C%22%5C%22%7D%2C%7B%5C%22surface%5C%22%3A%5C%22permalink%5C%22%2C%5C%22mechanism%5C%22%3A%5C%22event_information%5C%22%2C%5C%22extra_data%5C%22%3A%7B%5C%22tag%5C%22%3A%5C%22Causes%5C%22%7D%7D]%22%7D&amp\;suggestion_token=%7B%22event_categories%22%3A[1284277608291920]%7D" style="color: rgb(54\, 88\, 153)\; cursor: pointer\; text-decoration-line: none\; font-family: inherit\;">Causes</a></li>\n	<li><a href="https://www.facebook.com/events/discovery/?acontext=%7B%22source%22%3A1%2C%22action_history%22%3A%22[%7B%5C%22surface%5C%22%3A%5C%22page%5C%22%2C%5C%22mechanism%5C%22%3A%5C%22main_list%5C%22%2C%5C%22extra_data%5C%22%3A%5C%22%5C%5C%5C%22[]%5C%5C%5C%22%5C%22%7D%2C%7B%5C%22surface%5C%22%3A%5C%22permalink%5C%22%2C%5C%22mechanism%5C%22%3A%5C%22event_information%5C%22%2C%5C%22extra_data%5C%22%3A%7B%5C%22tag%5C%22%3A%5C%22Kid%20Friendly%5C%22%7D%7D]%22%7D&amp\;suggestion_token=%7B%22event_flags%22%3A[%22family_friendly%22]%7D" style="color: rgb(54\, 88\, 153)\; cursor: pointer\; text-decoration-line: none\; font-family: inherit\;">Kid Friendly</a></li>\n</ul>\n
LOCATION:South Hill Mall Puyallup\, WA
UID:e.101.9583
SEQUENCE:3
DTSTAMP:20260421T101129Z
URL:https://visitor.puyallupsumnerchamber.com/events/details/dare-2beexceptional-walk-9583
END:VEVENT

END:VCALENDAR
