BEGIN:VCALENDAR
VERSION:2.0
PRODID:-//ChamberMaster//Event Calendar 2.0//EN
METHOD:PUBLISH
X-PUBLISHED-TTL:P3D
REFRESH-INTERVAL:P3D
CALSCALE:GREGORIAN
BEGIN:VEVENT
DTSTART:20191109T020000Z
DTEND:20191109T063000Z
X-MICROSOFT-CDO-ALLDAYEVENT:FALSE
SUMMARY:Champions of Commerce Gala 2019
DESCRIPTION:The annual Champions of Commerce gala is an opportunity for The Puyallup Sumner Chamber of Commerce to honor excellence in company culture\, innovation\, community collaboration\, and sustainability\, among many other exciting award categories. The evening will feature the nominees and award recipients as well as music from the Northwest Sinfonietta to welcome guests\, Italian fare to feast on\, and dancing with Dynamite Supreme to conclude what is sure to be a fantastic evening to remember.
X-ALT-DESC;FMTTYPE=text/html:The annual Champions of Commerce gala is an opportunity for The Puyallup Sumner Chamber of Commerce to honor excellence in company culture\, innovation\, community collaboration\, and sustainability\, among many other exciting award categories. The evening will feature the nominees and award recipients as well as music from the Northwest Sinfonietta to welcome guests\, Italian fare to feast on\, and dancing with Dynamite Supreme to conclude what is sure to be a fantastic evening to remember.&nbsp\;&nbsp\;
LOCATION:Farm 12 Event Center 3303 #B 8th Ave SE Puyallup\, WA 98372
UID:e.101.10532
SEQUENCE:3
DTSTAMP:20260420T134323Z
URL:https://visitor.puyallupsumnerchamber.com/events/details/champions-of-commerce-gala-2019-10532
END:VEVENT

END:VCALENDAR
