BEGIN:VCALENDAR
VERSION:2.0
PRODID:-//ChamberMaster//Event Calendar 2.0//EN
METHOD:PUBLISH
X-PUBLISHED-TTL:P3D
REFRESH-INTERVAL:P3D
CALSCALE:GREGORIAN
BEGIN:VEVENT
DTSTART:20181017T143000Z
DTEND:20181017T160000Z
X-MICROSOFT-CDO-ALLDAYEVENT:FALSE
SUMMARY:Bound by Hope Breakfast
DESCRIPTION:Learn more about Mountain View Community Center \n\nMVCC is starting their 10th Year of service in the Community
X-ALT-DESC;FMTTYPE=text/html:Learn more about Mountain View Community Center&nbsp\;<br />\nMVCC is starting their 10th Year of service in the Community
LOCATION:Mountain View Community Center 3607 122nd Ave East Edgewood\, WA
UID:e.101.9590
SEQUENCE:3
DTSTAMP:20260421T101201Z
URL:https://visitor.puyallupsumnerchamber.com/events/details/bound-by-hope-breakfast-9590
END:VEVENT

END:VCALENDAR
