BEGIN:VCALENDAR
VERSION:2.0
PRODID:-//ChamberMaster//Event Calendar 2.0//EN
METHOD:PUBLISH
X-PUBLISHED-TTL:P3D
REFRESH-INTERVAL:P3D
CALSCALE:GREGORIAN
BEGIN:VEVENT
DTSTART;VALUE=DATE:20181010
DTEND;VALUE=DATE:20181011
TRANSP:TRANSPARENT
X-MICROSOFT-CDO-ALLDAYEVENT:TRUE
SUMMARY:Announcement of new Chamber CEO
DESCRIPTION:New CEO will be announced.
X-ALT-DESC;FMTTYPE=text/html:New CEO will be announced.<br />\n&nbsp\;
LOCATION:Stay Tuned to our Facebook page and this events calendar.
UID:e.101.9581
SEQUENCE:3
DTSTAMP:20260421T103007Z
URL:https://visitor.puyallupsumnerchamber.com/events/details/announcement-of-new-chamber-ceo-9581
END:VEVENT

END:VCALENDAR
